
BEGIN:VCALENDAR
VERSION:2.0
PRODID:-//sdsn.bg
CALSCALE:GREGORIAN
METHOD:PUBLISH
X-WR-CALNAME:sdsn.bg
X-ORIGINAL-URL:https://sdsn.bg/en/event/sustainable-south-and-eastern-europe-2030-tackling-socioeconomic-transitions-through-the-sdgs/
X-WR-CALDESC:SUSTAINABLE SOUTH AND EASTERN EUROPE 2030+: Tackling Socioeconomic Transitions through the SDGs
BEGIN:VEVENT
DTSTART:20260424T130000
DTEND:20260424T170000
SUMMARY:SUSTAINABLE SOUTH AND EASTERN EUROPE 2030+: Tackling Socioeconomic Transitions through the SDGs
DESCRIPTION:
LOCATION:UNWE, Sofia, Bulgaria
END:VEVENT
END:VCALENDAR